BEGIN:VCALENDAR
VERSION:2.0
PRODID:-//Our Lady of the Assumption - ECPv6.3.5//NONSGML v1.0//EN
CALSCALE:GREGORIAN
METHOD:PUBLISH
X-WR-CALNAME:Our Lady of the Assumption
X-ORIGINAL-URL:https://olacs.org/church
X-WR-CALDESC:Events for Our Lady of the Assumption
REFRESH-INTERVAL;VALUE=DURATION:PT1H
X-Robots-Tag:noindex
X-PUBLISHED-TTL:PT1H
BEGIN:VTIMEZONE
TZID:America/Denver
BEGIN:DAYLIGHT
TZOFFSETFROM:-0700
TZOFFSETTO:-0600
TZNAME:MDT
DTSTART:20230312T090000
END:DAYLIGHT
BEGIN:STANDARD
TZOFFSETFROM:-0600
TZOFFSETTO:-0700
TZNAME:MST
DTSTART:20231105T080000
END:STANDARD
END:VTIMEZONE
BEGIN:VEVENT
DTSTART;TZID=America/Denver:20230303T093000
DTEND;TZID=America/Denver:20230303T103000
DTSTAMP:20260425T081715
CREATED:20230227T231542Z
LAST-MODIFIED:20230227T231542Z
UID:7586-1677835800-1677839400@olacs.org
SUMMARY:Legion of Mary
DESCRIPTION:
URL:https://olacs.org/church/event/legion-of-mary/
END:VEVENT
BEGIN:VEVENT
DTSTART;TZID=America/Denver:20230303T173000
DTEND;TZID=America/Denver:20230303T183000
DTSTAMP:20260425T081715
CREATED:20230208T174738Z
LAST-MODIFIED:20230208T174738Z
UID:7303-1677864600-1677868200@olacs.org
SUMMARY:Mass followed by Stations of the Cross
DESCRIPTION:
URL:https://olacs.org/church/event/mass-followed-by-stations-of-the-cross-2/
END:VEVENT
END:VCALENDAR