BEGIN:VCALENDAR
VERSION:2.0
PRODID:-//Our Lady of the Assumption - ECPv6.3.5//NONSGML v1.0//EN
CALSCALE:GREGORIAN
METHOD:PUBLISH
X-ORIGINAL-URL:https://olacs.org/church
X-WR-CALDESC:Events for Our Lady of the Assumption
REFRESH-INTERVAL;VALUE=DURATION:PT1H
X-Robots-Tag:noindex
X-PUBLISHED-TTL:PT1H
BEGIN:VTIMEZONE
TZID:America/Denver
BEGIN:DAYLIGHT
TZOFFSETFROM:-0700
TZOFFSETTO:-0600
TZNAME:MDT
DTSTART:20240310T090000
END:DAYLIGHT
BEGIN:STANDARD
TZOFFSETFROM:-0600
TZOFFSETTO:-0700
TZNAME:MST
DTSTART:20241103T080000
END:STANDARD
END:VTIMEZONE
BEGIN:VEVENT
DTSTART;VALUE=DATE:20240908
DTEND;VALUE=DATE:20240909
DTSTAMP:20260419T221447
CREATED:20240827T165118Z
LAST-MODIFIED:20240827T165118Z
UID:9944-1725753600-1725839999@olacs.org
SUMMARY:Second Collection - Seminarian Support
DESCRIPTION:
URL:https://olacs.org/church/event/second-collection-seminarian-support/
END:VEVENT
END:VCALENDAR