BEGIN:VCALENDAR
VERSION:2.0
PRODID:-//Our Lady of the Assumption - ECPv6.3.5//NONSGML v1.0//EN
CALSCALE:GREGORIAN
METHOD:PUBLISH
X-WR-CALNAME:Our Lady of the Assumption
X-ORIGINAL-URL:https://olacs.org/church
X-WR-CALDESC:Events for Our Lady of the Assumption
REFRESH-INTERVAL;VALUE=DURATION:PT1H
X-Robots-Tag:noindex
X-PUBLISHED-TTL:PT1H
BEGIN:VTIMEZONE
TZID:America/Denver
BEGIN:DAYLIGHT
TZOFFSETFROM:-0700
TZOFFSETTO:-0600
TZNAME:MDT
DTSTART:20240310T090000
END:DAYLIGHT
BEGIN:STANDARD
TZOFFSETFROM:-0600
TZOFFSETTO:-0700
TZNAME:MST
DTSTART:20241103T080000
END:STANDARD
END:VTIMEZONE
BEGIN:VEVENT
DTSTART;TZID=America/Denver:20240913T093000
DTEND;TZID=America/Denver:20240913T120000
DTSTAMP:20260419T122724
CREATED:20240827T164134Z
LAST-MODIFIED:20240827T164134Z
UID:9936-1726219800-1726228800@olacs.org
SUMMARY:Blankets & Booties
DESCRIPTION:
URL:https://olacs.org/church/event/blankets-booties-19/
END:VEVENT
BEGIN:VEVENT
DTSTART;TZID=America/Denver:20240913T183000
DTEND;TZID=America/Denver:20240913T200000
DTSTAMP:20260419T122724
CREATED:20240827T164734Z
LAST-MODIFIED:20240827T164734Z
UID:9938-1726252200-1726257600@olacs.org
SUMMARY:Spanish Baptism Class - you must register w/ the parish office
DESCRIPTION:
URL:https://olacs.org/church/event/spanish-baptism-class-you-must-register-w-the-parish-office/
END:VEVENT
END:VCALENDAR