BEGIN:VCALENDAR
VERSION:2.0
PRODID:-//Our Lady of the Assumption - ECPv6.3.5//NONSGML v1.0//EN
CALSCALE:GREGORIAN
METHOD:PUBLISH
X-ORIGINAL-URL:https://olacs.org/church
X-WR-CALDESC:Events for Our Lady of the Assumption
REFRESH-INTERVAL;VALUE=DURATION:PT1H
X-Robots-Tag:noindex
X-PUBLISHED-TTL:PT1H
BEGIN:VTIMEZONE
TZID:America/Denver
BEGIN:DAYLIGHT
TZOFFSETFROM:-0700
TZOFFSETTO:-0600
TZNAME:MDT
DTSTART:20240310T090000
END:DAYLIGHT
BEGIN:STANDARD
TZOFFSETFROM:-0600
TZOFFSETTO:-0700
TZNAME:MST
DTSTART:20241103T080000
END:STANDARD
END:VTIMEZONE
BEGIN:VEVENT
DTSTART;TZID=America/Denver:20240918T183000
DTEND;TZID=America/Denver:20240918T203000
DTSTAMP:20260424T023759
CREATED:20240912T160940Z
LAST-MODIFIED:20240912T160940Z
UID:10008-1726684200-1726691400@olacs.org
SUMMARY:Adult Confirmation Class
DESCRIPTION:
URL:https://olacs.org/church/event/adult-confirmation-class-2/
END:VEVENT
END:VCALENDAR