BEGIN:VCALENDAR
VERSION:2.0
PRODID:-//Our Lady of the Assumption - ECPv6.3.5//NONSGML v1.0//EN
CALSCALE:GREGORIAN
METHOD:PUBLISH
X-ORIGINAL-URL:https://olacs.org/church
X-WR-CALDESC:Events for Our Lady of the Assumption
REFRESH-INTERVAL;VALUE=DURATION:PT1H
X-Robots-Tag:noindex
X-PUBLISHED-TTL:PT1H
BEGIN:VTIMEZONE
TZID:America/Denver
BEGIN:DAYLIGHT
TZOFFSETFROM:-0700
TZOFFSETTO:-0600
TZNAME:MDT
DTSTART:20240310T090000
END:DAYLIGHT
BEGIN:STANDARD
TZOFFSETFROM:-0600
TZOFFSETTO:-0700
TZNAME:MST
DTSTART:20241103T080000
END:STANDARD
END:VTIMEZONE
BEGIN:VEVENT
DTSTART;TZID=America/Denver:20240702T100000
DTEND;TZID=America/Denver:20240702T120000
DTSTAMP:20260419T155443
CREATED:20240613T204840Z
LAST-MODIFIED:20240613T204840Z
UID:9625-1719914400-1719921600@olacs.org
SUMMARY:Rosary/Funeral - Clorinda Nunez
DESCRIPTION:
URL:https://olacs.org/church/event/rosary-funeral-clorinda-nunez/
END:VEVENT
BEGIN:VEVENT
DTSTART;TZID=America/Denver:20240705T110000
DTEND;TZID=America/Denver:20240705T120000
DTSTAMP:20260419T155443
CREATED:20240611T213153Z
LAST-MODIFIED:20240611T213153Z
UID:9619-1720177200-1720180800@olacs.org
SUMMARY:Funeral - Judy Ladd
DESCRIPTION:
URL:https://olacs.org/church/event/funeral-judy-ladd/
END:VEVENT
BEGIN:VEVENT
DTSTART;TZID=America/Denver:20240712T103000
DTEND;TZID=America/Denver:20240712T120000
DTSTAMP:20260419T155443
CREATED:20240628T193552Z
LAST-MODIFIED:20240628T193952Z
UID:9703-1720780200-1720785600@olacs.org
SUMMARY:Rosary/Funeral - Elpidia Paula Garcia Sumano
DESCRIPTION:
URL:https://olacs.org/church/event/rosary-funeral-elpidia-paula-garcia-sumano/
END:VEVENT
BEGIN:VEVENT
DTSTART;TZID=America/Denver:20240715T103000
DTEND;TZID=America/Denver:20240715T120000
DTSTAMP:20260419T155443
CREATED:20240617T165211Z
LAST-MODIFIED:20240617T165211Z
UID:9668-1721039400-1721044800@olacs.org
SUMMARY:Rosary/Funeral - Gilbert Sierra
DESCRIPTION:
URL:https://olacs.org/church/event/rosary-funeral-gilbert-sierra/
END:VEVENT
BEGIN:VEVENT
DTSTART;TZID=America/Denver:20240721T083000
DTEND;TZID=America/Denver:20240721T120000
DTSTAMP:20260419T155443
CREATED:20240719T145519Z
LAST-MODIFIED:20240719T145520Z
UID:9763-1721550600-1721563200@olacs.org
SUMMARY:Knights of Columbus Breakfast
DESCRIPTION:
URL:https://olacs.org/church/event/knights-of-columbus-breakfast-5/
END:VEVENT
BEGIN:VEVENT
DTSTART;TZID=America/Denver:20240725T103000
DTEND;TZID=America/Denver:20240725T120000
DTSTAMP:20260419T155443
CREATED:20240719T143605Z
LAST-MODIFIED:20240719T143605Z
UID:9760-1721903400-1721908800@olacs.org
SUMMARY:Rosary/Funeral - David Brady
DESCRIPTION:
URL:https://olacs.org/church/event/rosary-funeral-david-brady/
END:VEVENT
BEGIN:VEVENT
DTSTART;TZID=America/Denver:20240726T103000
DTEND;TZID=America/Denver:20240726T120000
DTSTAMP:20260419T155443
CREATED:20240617T204216Z
LAST-MODIFIED:20240617T204216Z
UID:9671-1721989800-1721995200@olacs.org
SUMMARY:Rosary/Funeral - Senny Anthony Vigil
DESCRIPTION:
URL:https://olacs.org/church/event/rosary-funeral-senny-anthony-vigil/
END:VEVENT
END:VCALENDAR